BEGIN:VCALENDAR
VERSION:2.0
PRODID:-//Turn- und Sportverein Leinde e.V. - ECPv6.15.20//NONSGML v1.0//EN
CALSCALE:GREGORIAN
METHOD:PUBLISH
X-WR-CALNAME:Turn- und Sportverein Leinde e.V.
X-ORIGINAL-URL:https://tsvleinde.de
X-WR-CALDESC:Veranstaltungen für Turn- und Sportverein Leinde e.V.
REFRESH-INTERVAL;VALUE=DURATION:PT1H
X-Robots-Tag:noindex
X-PUBLISHED-TTL:PT1H
BEGIN:VTIMEZONE
TZID:Europe/Berlin
BEGIN:DAYLIGHT
TZOFFSETFROM:+0100
TZOFFSETTO:+0200
TZNAME:CEST
DTSTART:20250330T010000
END:DAYLIGHT
BEGIN:STANDARD
TZOFFSETFROM:+0200
TZOFFSETTO:+0100
TZNAME:CET
DTSTART:20251026T010000
END:STANDARD
BEGIN:DAYLIGHT
TZOFFSETFROM:+0100
TZOFFSETTO:+0200
TZNAME:CEST
DTSTART:20260329T010000
END:DAYLIGHT
BEGIN:STANDARD
TZOFFSETFROM:+0200
TZOFFSETTO:+0100
TZNAME:CET
DTSTART:20261025T010000
END:STANDARD
BEGIN:DAYLIGHT
TZOFFSETFROM:+0100
TZOFFSETTO:+0200
TZNAME:CEST
DTSTART:20270328T010000
END:DAYLIGHT
BEGIN:STANDARD
TZOFFSETFROM:+0200
TZOFFSETTO:+0100
TZNAME:CET
DTSTART:20271031T010000
END:STANDARD
END:VTIMEZONE
BEGIN:VEVENT
DTSTART;VALUE=DATE:20260502
DTEND;VALUE=DATE:20260503
DTSTAMP:20260420T190050
CREATED:20260208T164247Z
LAST-MODIFIED:20260208T164247Z
UID:8384-1777680000-1777766399@tsvleinde.de
SUMMARY:Kinderverbandsliga mit Dancing Stars
DESCRIPTION:
URL:https://tsvleinde.de/veranstaltung/kinderverbandsliga-mit-dancing-stars-4/
LOCATION:Berlin
CATEGORIES:Sportveranstaltung
END:VEVENT
END:VCALENDAR